BEGIN:VCALENDAR
VERSION:2.0
PRODID:-//Plone.org//NONSGML plone.app.event//EN
X-WR-TIMEZONE:Europe/Amsterdam
BEGIN:VEVENT
SUMMARY:Scientific Machine Learning in Academia and Beyond: From Theory to
  Real-World Impact
DTSTART;TZID=Europe/Amsterdam;VALUE=DATE-TIME:20250617T123000
DTEND;TZID=Europe/Amsterdam;VALUE=DATE-TIME:20250617T180000
DTSTAMP;VALUE=DATE-TIME:20260421T103533Z
UID:87f918fb105c401d99e7dc1cb0172abd
CONTACT:Alexander Heinlein\, bureau@platformwiskunde.nl\, https://www.comp
 utationalsciencenl.nl/en/scientific-machine-learning-in-academia-and-beyon
 d/
CREATED;VALUE=DATE-TIME:20250424T121857Z
LAST-MODIFIED;VALUE=DATE-TIME:20250424T122908Z
LOCATION:Crowne Plaza Hotel\, Utrecht
URL:https://wsc.project.cwi.nl/scientific-machine-learning-in-academia-and
 -beyond-from-theory-to-real-world-impact
END:VEVENT
BEGIN:VTIMEZONE
TZID:Europe/Amsterdam
X-LIC-LOCATION:Europe/Amsterdam
BEGIN:DAYLIGHT
DTSTART;VALUE=DATE-TIME:20250330T030000
TZNAME:CEST
TZOFFSETFROM:+0100
TZOFFSETTO:+0200
END:DAYLIGHT
END:VTIMEZONE
END:VCALENDAR
