BEGIN:VCALENDAR
VERSION:2.0
PRODID:-//Plone.org//NONSGML plone.app.event//EN
X-WR-TIMEZONE:Europe/Amsterdam
BEGIN:VEVENT
SUMMARY:2025 SCS Spring Meeting
DTSTART;VALUE=DATE:20250613
DTEND;VALUE=DATE:20250614
DTSTAMP;VALUE=DATE-TIME:20260421T103521Z
UID:abc1f69f5c6442c08b1eda1230f3d941
CONTACT:Martine Anholt\, numwisk@cwi.nl\, https://wsc.project.cwi.nl/sprin
 g-symposium/2025-meeting
CREATED;VALUE=DATE-TIME:20250424T120234Z
LAST-MODIFIED;VALUE=DATE-TIME:20250424T120241Z
LOCATION:Hasselt University\, Campus Diepenbeek
URL:https://wsc.project.cwi.nl/news/2025-scs-spring-meeting
END:VEVENT
END:VCALENDAR
