BEGIN:VCALENDAR
VERSION:2.0
PRODID:-//Plone.org//NONSGML plone.app.event//EN
X-WR-TIMEZONE:Europe/Amsterdam
BEGIN:VEVENT
SUMMARY:mini symposium  “Solvers\, Learning & Applications: Frontiers in
  Scientific Computing for a Data-Driven World”
DTSTART;TZID=Europe/Amsterdam;VALUE=DATE-TIME:20251002T133000
DTEND;TZID=Europe/Amsterdam;VALUE=DATE-TIME:20251002T153000
DTSTAMP;VALUE=DATE-TIME:20260421T103515Z
UID:9fe6769b6219419fb9dd54ca4803b58f
CONTACT:Prof. Victorita Dolean – Maini\, v.dolean.maini@tue.nl\;
CREATED;VALUE=DATE-TIME:20250922T095009Z
LAST-MODIFIED;VALUE=DATE-TIME:20250923T075758Z
LOCATION:Blauwe Zaal\, TU/e Auditorium (in person)
URL:https://wsc.project.cwi.nl/mini-symposium-201csolvers-learning-applica
 tions-frontiers-in-scientific-computing-for-a-data-driven-world201d
END:VEVENT
BEGIN:VTIMEZONE
TZID:Europe/Amsterdam
X-LIC-LOCATION:Europe/Amsterdam
BEGIN:DAYLIGHT
DTSTART;VALUE=DATE-TIME:20250330T030000
TZNAME:CEST
TZOFFSETFROM:+0100
TZOFFSETTO:+0200
END:DAYLIGHT
END:VTIMEZONE
END:VCALENDAR
