BEGIN:VCALENDAR
VERSION:2.0
PRODID:-//Plone.org//NONSGML plone.app.event//EN
X-WR-TIMEZONE:Europe/Amsterdam
BEGIN:VEVENT
SUMMARY:Math4NL Community Event\, December 5
DTSTART;TZID=Europe/Amsterdam;VALUE=DATE-TIME:20251205T133000
DTEND;TZID=Europe/Amsterdam;VALUE=DATE-TIME:20251205T173000
DTSTAMP;VALUE=DATE-TIME:20260421T102826Z
UID:49c0e35c902d4d6086eb5b7f8d270852
CREATED;VALUE=DATE-TIME:20251030T144803Z
DESCRIPTION:On Thursday\, December 5\, Math4NL will host its annual Math4N
 L Community Event — a day dedicated to connecting mathematicians\, indus
 try\, and funding opportunities.  Full program and registration: www.math4
 nl.nl/community-event-2025.
LAST-MODIFIED;VALUE=DATE-TIME:20251031T121655Z
LOCATION:TU Eindhoven\, Zwarte Doos
URL:https://wsc.project.cwi.nl/math4nl-community-event-december-5
END:VEVENT
BEGIN:VTIMEZONE
TZID:Europe/Amsterdam
X-LIC-LOCATION:Europe/Amsterdam
BEGIN:STANDARD
DTSTART;VALUE=DATE-TIME:20251026T020000
TZNAME:CET
TZOFFSETFROM:+0200
TZOFFSETTO:+0100
END:STANDARD
END:VTIMEZONE
END:VCALENDAR
