BEGIN:VCALENDAR
VERSION:2.0
PRODID:-//Plone.org//NONSGML plone.app.event//EN
X-WR-TIMEZONE:Europe/Amsterdam
BEGIN:VEVENT
SUMMARY:Seminar: Britta Peis (RWTH Aachen University)\, International spea
 ker
DTSTART;TZID=Europe/Amsterdam;VALUE=DATE-TIME:20211123T160000
DTEND;TZID=Europe/Amsterdam;VALUE=DATE-TIME:20211123T170000
DTSTAMP;VALUE=DATE-TIME:20260419T152700Z
UID:787e391f6fed49b5885b64c75a25e8d3
CREATED;VALUE=DATE-TIME:20211028T200223Z
LAST-MODIFIED;VALUE=DATE-TIME:20211124T103623Z
URL:https://wsc.project.cwi.nl/dutch-optimization-seminar/events/seminar-b
 ritta-peis-rwth-aachen-university-international-speaker
END:VEVENT
BEGIN:VTIMEZONE
TZID:Europe/Amsterdam
X-LIC-LOCATION:Europe/Amsterdam
BEGIN:STANDARD
DTSTART;VALUE=DATE-TIME:20211031T020000
TZNAME:CET
TZOFFSETFROM:+0200
TZOFFSETTO:+0100
END:STANDARD
END:VTIMEZONE
END:VCALENDAR
