BEGIN:VCALENDAR
VERSION:2.0
PRODID:-//Plone.org//NONSGML plone.app.event//EN
X-WR-TIMEZONE:Europe/Amsterdam
BEGIN:VEVENT
SUMMARY:2021 SCS Spring Meeting ONLINE
DTSTART;VALUE=DATE:20210528
DTEND;VALUE=DATE:20210529
DTSTAMP;VALUE=DATE-TIME:20260421T103515Z
UID:451da6d33c2545cdbb4ec1801906ab3a
CONTACT:Martine Anholt\, numwisk@cwi.nl\, https://wsc.project.cwi.nl/sprin
 g-symposium/2021-meeting
CREATED;VALUE=DATE-TIME:20210330T134309Z
DESCRIPTION:Friday May 28th\, 2021\, the Scientific Computing Society is o
 rganizing\, together with the Technical University in Delft the Netherland
 s\, its yearly spring meeting. We like to inform you that we decided to ma
 ke this years meeting an online edition\, because the situation around COV
 ID-19 has not really changed.
LAST-MODIFIED;VALUE=DATE-TIME:20210504T104455Z
LOCATION:the Technical University in Delft the Netherlands or online
URL:https://wsc.project.cwi.nl/2021-scs-spring-meeting
END:VEVENT
END:VCALENDAR
